BEGIN:VCALENDAR
VERSION:2.0
PRODID:-//Mastère Traitement de l&#039;information et complexité du vivant
CALSCALE:GREGORIAN
METHOD:PUBLISH
X-WR-CALNAME:Mastère Traitement de l&#039;information et complexité du vivant
X-ORIGINAL-URL:https://www.ticv.tn/event/predicting-cybersickness-in-immersive-experiences-a-user-centric-approach-utilizing-facial-expressions-and-user-movement/
X-WR-CALDESC:Predicting Cybersickness in Immersive Experiences:  A User-Centric Approach Utilizing Facial Expressions  and User Movement
BEGIN:VEVENT
DTSTART:20241125T140000
DTEND:
SUMMARY:Predicting Cybersickness in Immersive Experiences:  A User-Centric Approach Utilizing Facial Expressions  and User Movement
DESCRIPTION:
LOCATION:Mini amphi 321, ENIT
END:VEVENT
END:VCALENDAR
