BEGIN:VCALENDAR
VERSION:2.0
PRODID:-//Mastère Traitement de l&#039;information et complexité du vivant
CALSCALE:GREGORIAN
METHOD:PUBLISH
X-WR-CALNAME:Mastère Traitement de l&#039;information et complexité du vivant
X-ORIGINAL-URL:https://www.ticv.tn/event/a-i-f-o-r-b-r-a-i-n-d-i-s-e-a-s-e/
X-WR-CALDESC:A I F O R B R A I N D I S E A S E
BEGIN:VEVENT
DTSTART:20221214T000000
DTEND:20221214T000000
SUMMARY:A I F O R B R A I N D I S E A S E
DESCRIPTION:
LOCATION:Ecole Nationale d'Ingénieurs de Tunis
END:VEVENT
END:VCALENDAR
