BEGIN:VCALENDAR
VERSION:2.0
PRODID:-//Mastère Traitement de l&#039;information et complexité du vivant
CALSCALE:GREGORIAN
METHOD:PUBLISH
X-WR-CALNAME:Mastère Traitement de l&#039;information et complexité du vivant
X-ORIGINAL-URL:https://www.ticv.tn/event/market-and-technology-trends-in-iot-applications-and-connectivity/
X-WR-CALDESC:Market and Technology Trends in IoT applications and Connectivity
BEGIN:VEVENT
DTSTART:20221102T000000
DTEND:20221102T000000
SUMMARY:Market and Technology Trends in IoT applications and Connectivity
DESCRIPTION:
LOCATION:
END:VEVENT
END:VCALENDAR
